BEGIN:VCALENDAR
BEGIN:VEVENT
DESCRIPTION:\nMore Information: https://boxoffice.hotdocs.ca/websales/pages/TicketSearchCriteria.aspx?evtInfo=599151~cf285ddd-dacb-4f18-89b8-1252c6dcffa6&\n\nIn 2008 a Black teenager died under mysterious circumstances in Bridgeport, Connecticut. Cette maison, the stirring debut feature from Miryam Charles, excavates this tragedy by way of a voyage through time and space.
DTSTART:20260320T223000Z
DTEND:20260320T234500Z
LOCATION:Hot Docs Ted Rogers Cinema, 506 Bloor Street West, Toronto, ON, M5S 1Y3
SUMMARY:For Viola // Free Screening: Cette maison
UID:599151
DTSTAMP:20260423T124239Z
END:VEVENT
END:VCALENDAR
